Workbook

Sheet Sheet1
A1: 附件2
A2: 2024年大亚湾开发区霞涌街道办事处公开招聘 编外人员（XC2）体能测试及笔试成绩
A3: 报考岗位：XC2
A4: 序号 | B4: 准考证号 | C4: 体能测试成绩 | D4: 体能是否合格 | E4: 笔试成绩 | F4: 笔试是否符合加分 | G4: 体能测试+笔试成绩 | H4: 备注
A5: 1 | B5: 240830010324 | C5: 30 | D5: 合格 | E5: =VLOOKUP(B5,[1]成绩表!$B$1:$I$65536,8,FALSE) -> 58.37 | F5: 否 | G5: =C5+E5*0.3 -> 47.511 | H5: 入围现场资格审查
A6: 2 | B6: 240830010312 | C6: 30 | D6: 合格 | E6: =VLOOKUP(B6,[1]成绩表!$B$1:$I$65536,8,FALSE) -> 38.86 | F6: 是 | G6: =C6+(E6+10)*0.3 -> 44.658 | H6: 入围现场资格审查
A7: 3 | B7: 240830010315 | C7: 21 | D7: 合格 | E7: =VLOOKUP(B7,[1]成绩表!$B$1:$I$65536,8,FALSE) -> 51.96 | F7: 是 | G7: =C7+(E7+10)*0.3 -> 39.588 | H7: 入围现场资格审查
A8: 4 | B8: 240830010322 | C8: 21 | D8: 合格 | E8: =VLOOKUP(B8,[1]成绩表!$B$1:$I$65536,8,FALSE) -> 58.96 | F8: 否 | G8: =C8+E8*0.3 -> 38.688
A9: 5 | B9: 240830010303 | C9: 19 | D9: 合格 | E9: =VLOOKUP(B9,[1]成绩表!$B$1:$I$65536,8,FALSE) -> 0 | F9: —— | G9: —— | H9: 笔试缺考
A10: 6 | B10: 240830010325 | C10: 17 | D10: 不合格 | E10: =VLOOKUP(B10,[1]成绩表!$B$1:$I$65536,8,FALSE) -> 66.36 | F10: —— | G10: ——
A11: 7 | B11: 240830010307 | C11: 20 | D11: 不合格 | E11: =VLOOKUP(B11,[1]成绩表!$B$1:$I$65536,8,FALSE) -> 61.88 | F11: —— | G11: ——
A12: 8 | B12: 240830010302 | C12: 18 | D12: 不合格 | E12: =VLOOKUP(B12,[1]成绩表!$B$1:$I$65536,8,FALSE) -> 61.12 | F12: —— | G12: ——
A13: 9 | B13: 240830010330 | C13: 20 | D13: 不合格 | E13: =VLOOKUP(B13,[1]成绩表!$B$1:$I$65536,8,FALSE) -> 58.69 | F13: —— | G13: ——
A14: 10 | B14: 240830010311 | C14: 20 | D14: 不合格 | E14: =VLOOKUP(B14,[1]成绩表!$B$1:$I$65536,8,FALSE) -> 54.99 | F14: —— | G14: ——
A15: 11 | B15: 240830010323 | C15: 20 | D15: 不合格 | E15: =VLOOKUP(B15,[1]成绩表!$B$1:$I$65536,8,FALSE) -> 54.82 | F15: —— | G15: ——
A16: 12 | B16: 240830010301 | C16: 7 | D16: 不合格 | E16: =VLOOKUP(B16,[1]成绩表!$B$1:$I$65536,8,FALSE) -> 35.88 | F16: —— | G16: ——
A17: 13 | B17: 240830010328 | C17: 0 | D17: 缺考 | E17: =VLOOKUP(B17,[1]成绩表!$B$1:$I$65536,8,FALSE) -> 62.5 | F17: —— | G17: ——
A18: 14 | B18: 240830010402 | C18: 0 | D18: 缺考 | E18: =VLOOKUP(B18,[1]成绩表!$B$1:$I$65536,8,FALSE) -> 61.72 | F18: —— | G18: ——
A19: 15 | B19: 240830010401 | C19: 0 | D19: 缺考 | E19: =VLOOKUP(B19,[1]成绩表!$B$1:$I$65536,8,FALSE) -> 55.38 | F19: —— | G19: ——
A20: 16 | B20: 240830010304 | C20: 0 | D20: 缺考 | E20: =VLOOKUP(B20,[1]成绩表!$B$1:$I$65536,8,FALSE) -> 0 | F20: —— | G20: ——
A21: 17 | B21: 240830010305 | C21: 0 | D21: 缺考 | E21: =VLOOKUP(B21,[1]成绩表!$B$1:$I$65536,8,FALSE) -> 0 | F21: —— | G21: ——
... A36: 32 | B36: 240830010329 | C36: 0 | D36: 缺考 | E36: =VLOOKUP(B36,[1]成绩表!$B$1:$I$65536,8,FALSE) -> 0 | F36: —— | G36: ——
